BEGIN:VCALENDAR
VERSION:2.0
PRODID:-//岩瀬書店 - ECPv4.6.20.1//NONSGML v1.0//EN
CALSCALE:GREGORIAN
METHOD:PUBLISH
X-WR-CALNAME:岩瀬書店
X-ORIGINAL-URL:https://www.iwasebooks.co.jp
X-WR-CALDESC:Events for 岩瀬書店
BEGIN:VEVENT
DTSTART;VALUE=DATE:20251031
DTEND;VALUE=DATE:20251117
DTSTAMP:20260419T220833
CREATED:20251031T060446Z
LAST-MODIFIED:20251031T060446Z
UID:29428-1761868800-1763337599@www.iwasebooks.co.jp
SUMMARY:お歳暮ギフト予約受付中！
DESCRIPTION: \nお歳暮ギフト予約受付中！\n11月16日（日）予約締切\n12月上旬発売予定 
URL:https://www.iwasebooks.co.jp/event/29428
CATEGORIES:ヨークベニマル福島西店,会津若松駅前店,八木田店プラスゲオ,富久山店プラスゲオ,福島駅西口店,鎌田店
ATTACH;FMTTYPE=image/jpeg:https://www.iwasebooks.co.jp/wp-content/uploads/2025/10/AMEKAZE2025.jpg
END:VEVENT
BEGIN:VEVENT
DTSTART;VALUE=DATE:20250916
DTEND;VALUE=DATE:20260201
DTSTAMP:20260419T220833
CREATED:20250916T010231Z
LAST-MODIFIED:20250916T011420Z
UID:28935-1757980800-1769903999@www.iwasebooks.co.jp
SUMMARY:WITH YOU　TUFコラボ商品発売中!
DESCRIPTION:【開催店舗】\n福島駅西口店・富久山店プラスゲオ・会津若松駅前店 \n【開催期間】\n2025年9月16日（月）〜2026年1月31日（土） 
URL:https://www.iwasebooks.co.jp/event/28935
CATEGORIES:会津若松駅前店,富久山店プラスゲオ,福島駅西口店
ATTACH;FMTTYPE=image/jpeg:https://www.iwasebooks.co.jp/wp-content/uploads/2025/09/TUF.jpg
END:VEVENT
BEGIN:VEVENT
DTSTART;VALUE=DATE:20241220
DTEND;VALUE=DATE:20270101
DTSTAMP:20260419T220833
CREATED:20241211T010142Z
LAST-MODIFIED:20251015T084139Z
UID:26447-1734652800-1798761599@www.iwasebooks.co.jp
SUMMARY:岩瀬書店が挑戦した木桶仕込み醤油
DESCRIPTION:「岩瀬書店が挑戦した木桶仕込み醤油」発売中! \n【200ml】1\,080円（税込）　ギフト包装版1\,100円（税込） 
URL:https://www.iwasebooks.co.jp/event/26447
CATEGORIES:ヨークベニマル福島西店,中合店,会津若松駅前店,八木田店プラスゲオ,富久山店プラスゲオ,福島駅西口店,鎌田店
ATTACH;FMTTYPE=image/jpeg:https://www.iwasebooks.co.jp/wp-content/uploads/2024/12/62f590f249d74e36d9986980cc050e0c.jpg
END:VEVENT
BEGIN:VEVENT
DTSTART;VALUE=DATE:20250923
DTEND;VALUE=DATE:20251226
DTSTAMP:20260419T220833
CREATED:20250924T002352Z
LAST-MODIFIED:20250924T050327Z
UID:29065-1758585600-1766707199@www.iwasebooks.co.jp
SUMMARY:ブックサンタ2025 プロジェクト
DESCRIPTION: \n  \nあなたが選んだ本を、サンタクロースが全国の子どもたちに届けます。\n※様々な事情で困難な状況にある子どもたち(原則0〜18歳) \nブックサンタは「様々な事情で困難な状況にある子どもたちへ、本をプレゼントしよう！」という社会貢献のプロジェクトです。\n全国のNPOと書店が連携して、あなたが選んだ本を子どもたちへ届けます。 \n  \n\nブックサンタ公式ホームページ ▶︎ \n\n  \n \nブックサンタ応援！\nチャリティーつきしおり 発売中！ 
URL:https://www.iwasebooks.co.jp/event/29065
CATEGORIES:ヨークベニマル福島西店,会津若松駅前店,八木田店プラスゲオ,富久山店プラスゲオ,福島駅西口店,鎌田店
ATTACH;FMTTYPE=image/jpeg:https://www.iwasebooks.co.jp/wp-content/uploads/2025/09/b9288710f9394043625a2295cd02ceb8.jpg
END:VEVENT
BEGIN:VEVENT
DTSTART;VALUE=DATE:20251101
DTEND;VALUE=DATE:20260201
DTSTAMP:20260419T220833
CREATED:20251106T071008Z
LAST-MODIFIED:20251106T071316Z
UID:29502-1761955200-1769903999@www.iwasebooks.co.jp
SUMMARY:日本全国インスタントラーメンフェア開催！
DESCRIPTION:【期間限定】インスタントラーメン専門店やかん亭\nポップアップショップ開催中!\n \nたくさんの種類の中からお気に入りの一食を見つけてみよう！！ 
URL:https://www.iwasebooks.co.jp/event/29502
LOCATION:福島県郡山市富久山町八山田字大森新田36-1
CATEGORIES:富久山店プラスゲオ
ATTACH;FMTTYPE=image/jpeg:https://www.iwasebooks.co.jp/wp-content/uploads/2025/11/1e8119a7b5691b74637a76f4fea01276.jpg
END:VEVENT
END:VCALENDAR