BEGIN:VCALENDAR
VERSION:2.0
PRODID:-//岩瀬書店 - ECPv4.6.20.1//NONSGML v1.0//EN
CALSCALE:GREGORIAN
METHOD:PUBLISH
X-WR-CALNAME:岩瀬書店
X-ORIGINAL-URL:https://www.iwasebooks.co.jp
X-WR-CALDESC:Events for 岩瀬書店
BEGIN:VEVENT
DTSTART;VALUE=DATE:20250801
DTEND;VALUE=DATE:20250916
DTSTAMP:20260423T200251
CREATED:20250801T001754Z
LAST-MODIFIED:20250801T002121Z
UID:28594-1754006400-1757980799@www.iwasebooks.co.jp
SUMMARY:こびとづかん POPUP-SHOP こびと百貨店
DESCRIPTION: 
URL:https://www.iwasebooks.co.jp/event/28594
LOCATION:福島県福島市八島田字琵琶渕3-1 ヨークベニマル福島西店隣
CATEGORIES:ヨークベニマル福島西店
ATTACH;FMTTYPE=image/jpeg:https://www.iwasebooks.co.jp/wp-content/uploads/2025/08/9b11d43034b16c42762eec07797de473.jpg
END:VEVENT
BEGIN:VEVENT
DTSTART;VALUE=DATE:20250801
DTEND;VALUE=DATE:20250911
DTSTAMP:20260423T200251
CREATED:20250730T061351Z
LAST-MODIFIED:20250730T061414Z
UID:28591-1754006400-1757548799@www.iwasebooks.co.jp
SUMMARY:映画中古パンフレットフェア開催！
DESCRIPTION:名作からカルト作まで、映画の歴史を彩るパンフレットの数々が並びます。 \n当時を懐かしむもよし、知らなかった作品に出会うもよし、映画の世界をより深く楽しめること間違いなしです。 \n  \n映画ファンの方はもちろん、レトロなデザインや印刷物に興味がある方も、ぜひお立ち寄りください。 
URL:https://www.iwasebooks.co.jp/event/28591
LOCATION:福島県郡山市富久山町八山田字大森新田36-1
CATEGORIES:富久山店プラスゲオ
ATTACH;FMTTYPE=image/png:https://www.iwasebooks.co.jp/wp-content/uploads/2025/07/6c977676e3be15fb8dbec54b32003df1.png
END:VEVENT
BEGIN:VEVENT
DTSTART;VALUE=DATE:20250730
DTEND;VALUE=DATE:20250910
DTSTAMP:20260423T200251
CREATED:20250724T042426Z
LAST-MODIFIED:20250724T045307Z
UID:28519-1753833600-1757462399@www.iwasebooks.co.jp
SUMMARY:中古レコード＆CD　Groove掘り出し市
DESCRIPTION:
URL:https://www.iwasebooks.co.jp/event/28519
LOCATION:福島県郡山市富久山町八山田字大森新田36-1
ATTACH;FMTTYPE=image/png:https://www.iwasebooks.co.jp/wp-content/uploads/2025/07/20250730.png
END:VEVENT
BEGIN:VEVENT
DTSTART;VALUE=DATE:20250714
DTEND;VALUE=DATE:20250929
DTSTAMP:20260423T200251
CREATED:20250708T071721Z
LAST-MODIFIED:20250708T071932Z
UID:28335-1752451200-1759103999@www.iwasebooks.co.jp
SUMMARY:缶詰ミュージアム POP UP
DESCRIPTION:日本各地の缶詰が大集合！ \n「開けたらすぐごちそう！缶詰でラクうま生活」 
URL:https://www.iwasebooks.co.jp/event/28335
LOCATION:福島県郡山市富久山町八山田字大森新田36-1
CATEGORIES:富久山店プラスゲオ
ATTACH;FMTTYPE=image/jpeg:https://www.iwasebooks.co.jp/wp-content/uploads/2025/07/94e7a8530465ad7ab64e516444f22bfc-scaled.jpg
END:VEVENT
BEGIN:VEVENT
DTSTART;TZID=Asia/Tokyo:20250711T090000
DTEND;TZID=Asia/Tokyo:20250914T210000
DTSTAMP:20260423T200251
CREATED:20250703T103435Z
LAST-MODIFIED:20250707T041608Z
UID:28317-1752224400-1757883600@www.iwasebooks.co.jp
SUMMARY:アニメヴィンテージアート即売会
DESCRIPTION:
URL:https://www.iwasebooks.co.jp/event/28317
LOCATION:〒965-0024 福島県会津若松市白虎町225
CATEGORIES:会津若松駅前店
ATTACH;FMTTYPE=image/jpeg:https://www.iwasebooks.co.jp/wp-content/uploads/2025/07/803866e87d15cadfc0dd70fb94ab3aba.jpg
END:VEVENT
BEGIN:VEVENT
DTSTART;VALUE=DATE:20250719
DTEND;VALUE=DATE:20250901
DTSTAMP:20260423T200251
CREATED:20250701T075557Z
LAST-MODIFIED:20250701T075557Z
UID:28313-1752883200-1756684799@www.iwasebooks.co.jp
SUMMARY:児童書をお買い上げの方に、オリジナル缶バッジを製作してプレゼント!
DESCRIPTION:
URL:https://www.iwasebooks.co.jp/event/28313
LOCATION:福島県福島市八島田字琵琶渕3-1 ヨークベニマル福島西店隣
CATEGORIES:ヨークベニマル福島西店
ATTACH;FMTTYPE=image/jpeg:https://www.iwasebooks.co.jp/wp-content/uploads/2025/07/d470fdad86320dfd7ffe3de8d3c7752a.jpg
END:VEVENT
BEGIN:VEVENT
DTSTART;VALUE=DATE:20250701
DTEND;VALUE=DATE:20250828
DTSTAMP:20260423T200251
CREATED:20250625T055329Z
LAST-MODIFIED:20250625T055409Z
UID:28238-1751328000-1756339199@www.iwasebooks.co.jp
SUMMARY:空想街雑貨店
DESCRIPTION:吉祥寺で人気の雑貨店が鎌田にやってくる！ \n時間／9:00〜22:00 
URL:https://www.iwasebooks.co.jp/event/28238
LOCATION:福島県福島市鎌田字西舟戸11-1 リオンドール内
CATEGORIES:鎌田店
ATTACH;FMTTYPE=image/jpeg:https://www.iwasebooks.co.jp/wp-content/uploads/2025/06/a3df66887abf8c96c32885b99ad54aa3.jpg
END:VEVENT
BEGIN:VEVENT
DTSTART;VALUE=DATE:20250611
DTEND;VALUE=DATE:20250828
DTSTAMP:20260423T200251
CREATED:20250520T070851Z
LAST-MODIFIED:20250520T070851Z
UID:27892-1749600000-1756339199@www.iwasebooks.co.jp
SUMMARY:空想街雑貨店
DESCRIPTION:吉祥寺で人気の雑貨店が八木田にやってくる！ \n時間／9:00〜22:00 
URL:https://www.iwasebooks.co.jp/event/27892
LOCATION:福島県福島市八木田字並柳163-1
CATEGORIES:八木田店プラスゲオ
ATTACH;FMTTYPE=image/png:https://www.iwasebooks.co.jp/wp-content/uploads/2025/05/613c6968f91c9f7a6262728cfcda121e.png
END:VEVENT
BEGIN:VEVENT
DTSTART;VALUE=DATE:20250630
DTEND;VALUE=DATE:20250915
DTSTAMP:20260423T200251
CREATED:20250626T091615Z
LAST-MODIFIED:20250626T091615Z
UID:28254-1751241600-1757894399@www.iwasebooks.co.jp
SUMMARY:海の近くの文具店　POPUP CARAVAN
DESCRIPTION:
URL:https://www.iwasebooks.co.jp/event/28254
LOCATION:〒965-0024 福島県会津若松市白虎町225
CATEGORIES:会津若松駅前店
ATTACH;FMTTYPE=image/jpeg:https://www.iwasebooks.co.jp/wp-content/uploads/2025/06/umichika20250630.jpg
END:VEVENT
BEGIN:VEVENT
DTSTART;VALUE=DATE:20241220
DTEND;VALUE=DATE:20270101
DTSTAMP:20260423T200251
CREATED:20241211T010142Z
LAST-MODIFIED:20251015T084139Z
UID:26447-1734652800-1798761599@www.iwasebooks.co.jp
SUMMARY:岩瀬書店が挑戦した木桶仕込み醤油
DESCRIPTION:「岩瀬書店が挑戦した木桶仕込み醤油」発売中! \n【200ml】1\,080円（税込）　ギフト包装版1\,100円（税込） 
URL:https://www.iwasebooks.co.jp/event/26447
CATEGORIES:ヨークベニマル福島西店,中合店,会津若松駅前店,八木田店プラスゲオ,富久山店プラスゲオ,福島駅西口店,鎌田店
ATTACH;FMTTYPE=image/jpeg:https://www.iwasebooks.co.jp/wp-content/uploads/2024/12/62f590f249d74e36d9986980cc050e0c.jpg
END:VEVENT
BEGIN:VEVENT
DTSTART;TZID=Asia/Tokyo:20250630T100000
DTEND;TZID=Asia/Tokyo:20250831T230000
DTSTAMP:20260423T200251
CREATED:20250618T092637Z
LAST-MODIFIED:20250618T093234Z
UID:28172-1751277600-1756681200@www.iwasebooks.co.jp
SUMMARY:全国の絶品レトルトカレーが集結！！　ザ　カリースクランブル
DESCRIPTION:名店・ご当地レトルトカレーを、期間限定で販売します！！ 
URL:https://www.iwasebooks.co.jp/event/28172
LOCATION:福島県郡山市富久山町八山田字大森新田36-1
CATEGORIES:富久山店プラスゲオ
ATTACH;FMTTYPE=image/jpeg:https://www.iwasebooks.co.jp/wp-content/uploads/2025/06/13dbe1d97b96592d2288be955bea087d.jpg
END:VEVENT
BEGIN:VEVENT
DTSTART;TZID=Asia/Tokyo:20250701T090000
DTEND;TZID=Asia/Tokyo:20250831T220000
DTSTAMP:20260423T200251
CREATED:20250618T092443Z
LAST-MODIFIED:20250618T093334Z
UID:28169-1751360400-1756677600@www.iwasebooks.co.jp
SUMMARY:全国の絶品レトルトカレーが集結！！　ザ　カリースクランブル
DESCRIPTION:名店・ご当地レトルトカレーを、期間限定で販売します！！ 
URL:https://www.iwasebooks.co.jp/event/28169
LOCATION:福島県福島市鎌田字西舟戸11-1 リオンドール内
CATEGORIES:鎌田店
ATTACH;FMTTYPE=image/png:https://www.iwasebooks.co.jp/wp-content/uploads/2025/06/421fe289dca7670f942cdb8179c597f8.png
END:VEVENT
BEGIN:VEVENT
DTSTART;TZID=Asia/Tokyo:20250701T090000
DTEND;TZID=Asia/Tokyo:20250903T210000
DTSTAMP:20260423T200251
CREATED:20250618T092249Z
LAST-MODIFIED:20250618T093256Z
UID:28166-1751360400-1756933200@www.iwasebooks.co.jp
SUMMARY:全国の絶品レトルトカレーが集結！！　ザ　カリースクランブル
DESCRIPTION:名店・ご当地レトルトカレーを、期間限定で販売します！！ 
URL:https://www.iwasebooks.co.jp/event/28166
LOCATION:福島県福島市栄町1-1 福島駅西口パワーシティピボット内
CATEGORIES:福島駅西口店
ATTACH;FMTTYPE=image/jpeg:https://www.iwasebooks.co.jp/wp-content/uploads/2025/06/e7b2b23dc34f3464ac03dde65dec9008.jpeg
END:VEVENT
BEGIN:VEVENT
DTSTART;TZID=Asia/Tokyo:20250701T090000
DTEND;TZID=Asia/Tokyo:20250831T220000
DTSTAMP:20260423T200251
CREATED:20250618T011725Z
LAST-MODIFIED:20250618T011725Z
UID:28161-1751360400-1756677600@www.iwasebooks.co.jp
SUMMARY:日本全国インスタントラーメンフェア開催！
DESCRIPTION:インスタントラーメンフェアを開催！\nたくさんの種類の中からお気に入りの一食を見つけてみよう！！ 
URL:https://www.iwasebooks.co.jp/event/28161
LOCATION:福島県福島市鎌田字西舟戸11-1 リオンドール内
CATEGORIES:鎌田店
ATTACH;FMTTYPE=image/jpeg:https://www.iwasebooks.co.jp/wp-content/uploads/2025/06/4e0d35258c9ee42f1d5649e84cc56647.jpg
END:VEVENT
BEGIN:VEVENT
DTSTART;TZID=Asia/Tokyo:20250606T090000
DTEND;TZID=Asia/Tokyo:20251013T210000
DTSTAMP:20260423T200251
CREATED:20250617T070719Z
LAST-MODIFIED:20250829T015745Z
UID:28098-1749200400-1760389200@www.iwasebooks.co.jp
SUMMARY:【期間延長!!】日本全国インスタントラーメンフェア開催中！
DESCRIPTION:インスタントラーメンフェアを開催中！\nたくさんの種類の中からお気に入りの一食を見つけてみよう！！ 
URL:https://www.iwasebooks.co.jp/event/28098
LOCATION:〒965-0024 福島県会津若松市白虎町225
CATEGORIES:会津若松駅前店
ATTACH;FMTTYPE=image/jpeg:https://www.iwasebooks.co.jp/wp-content/uploads/2025/06/1e8119a7b5691b74637a76f4fea01276.jpg
END:VEVENT
BEGIN:VEVENT
DTSTART;VALUE=DATE:20250701
DTEND;VALUE=DATE:20250901
DTSTAMP:20260423T200251
CREATED:20250627T062056Z
LAST-MODIFIED:20250627T062220Z
UID:28257-1751328000-1756684799@www.iwasebooks.co.jp
SUMMARY:ねこ百貨店POP UP
DESCRIPTION:
URL:https://www.iwasebooks.co.jp/event/28257
LOCATION:福島県福島市鎌田字西舟戸11-1 リオンドール内
CATEGORIES:鎌田店
ATTACH;FMTTYPE=image/jpeg:https://www.iwasebooks.co.jp/wp-content/uploads/2025/06/fafecd6925aa1fa567343d67c7d7e0c2.jpg
END:VEVENT
END:VCALENDAR