BEGIN:VCALENDAR
VERSION:2.0
PRODID:-//岩瀬書店 - ECPv4.6.20.1//NONSGML v1.0//EN
CALSCALE:GREGORIAN
METHOD:PUBLISH
X-WR-CALNAME:岩瀬書店
X-ORIGINAL-URL:https://www.iwasebooks.co.jp
X-WR-CALDESC:Events for 岩瀬書店
BEGIN:VEVENT
DTSTART;TZID=Asia/Tokyo:20200105T150000
DTEND;TZID=Asia/Tokyo:20200105T153000
DTSTAMP:20260425T014810
CREATED:20191118T062423Z
LAST-MODIFIED:20191118T062423Z
UID:8983-1578236400-1578238200@www.iwasebooks.co.jp
SUMMARY:絵本の読み聞かせ
DESCRIPTION:たくさんの絵本と待っています。 \nみんなで来てね！ 
URL:https://www.iwasebooks.co.jp/event/8983
LOCATION:福島県郡山市富久山町八山田字大森新田36-1
CATEGORIES:富久山店プラスゲオ
ATTACH;FMTTYPE=image/jpeg:https://www.iwasebooks.co.jp/wp-content/uploads/2017/05/yomikikase.jpg
END:VEVENT
END:VCALENDAR