BEGIN:VCALENDAR
VERSION:2.0
PRODID:-//岩瀬書店 - ECPv4.6.20.1//NONSGML v1.0//EN
CALSCALE:GREGORIAN
METHOD:PUBLISH
X-WR-CALNAME:岩瀬書店
X-ORIGINAL-URL:https://www.iwasebooks.co.jp
X-WR-CALDESC:Events for 岩瀬書店
BEGIN:VEVENT
DTSTART;VALUE=DATE:20260516
DTEND;VALUE=DATE:20260824
DTSTAMP:20260420T133051
CREATED:20260420T082935Z
LAST-MODIFIED:20260420T082935Z
UID:30988-1778889600-1787529599@www.iwasebooks.co.jp
SUMMARY:地球NASAランドセル特別予約販売会
DESCRIPTION:
URL:https://www.iwasebooks.co.jp/event/30988
CATEGORIES:会津若松駅前店,八木田店プラスゲオ,富久山店プラスゲオ
ATTACH;FMTTYPE=image/jpeg:https://www.iwasebooks.co.jp/wp-content/uploads/2026/04/0b1b0c456f062e1a39aff04c7da8228e.jpg
END:VEVENT
END:VCALENDAR