BEGIN:VCALENDAR
VERSION:2.0
PRODID:-//岩瀬書店 - ECPv4.6.20.1//NONSGML v1.0//EN
CALSCALE:GREGORIAN
METHOD:PUBLISH
X-WR-CALNAME:岩瀬書店
X-ORIGINAL-URL:https://www.iwasebooks.co.jp
X-WR-CALDESC:Events for 岩瀬書店
BEGIN:VEVENT
DTSTART;TZID=Asia/Tokyo:20260517T100000
DTEND;TZID=Asia/Tokyo:20260517T180000
DTSTAMP:20260420T150005
CREATED:20260415T072646Z
LAST-MODIFIED:20260415T073257Z
UID:30977-1779012000-1779040800@www.iwasebooks.co.jp
SUMMARY:パンどろぼうたちをさがせ!
DESCRIPTION:パンどろぼうシリーズ \nおみせのなかにパンどろぼうたちがかくれているよ\nみつけてプレゼントをもらおう! 
URL:https://www.iwasebooks.co.jp/event/30977
LOCATION:福島県郡山市富久山町八山田字大森新田36-1
CATEGORIES:富久山店プラスゲオ
ATTACH;FMTTYPE=image/jpeg:https://www.iwasebooks.co.jp/wp-content/uploads/2022/10/pixta_37753282_M.jpg
END:VEVENT
END:VCALENDAR