BEGIN:VCALENDAR
VERSION:2.0
PRODID:-//岩瀬書店 - ECPv4.6.20.1//NONSGML v1.0//EN
CALSCALE:GREGORIAN
METHOD:PUBLISH
X-WR-CALNAME:岩瀬書店
X-ORIGINAL-URL:https://www.iwasebooks.co.jp
X-WR-CALDESC:Events for 岩瀬書店
BEGIN:VEVENT
DTSTART;VALUE=DATE:20260310
DTEND;VALUE=DATE:20260507
DTSTAMP:20260425T140721
CREATED:20260311T073852Z
LAST-MODIFIED:20260312T053904Z
UID:30629-1773100800-1778111999@www.iwasebooks.co.jp
SUMMARY:ごえん茶 POPUP開催！
DESCRIPTION:【期間】　2026/3/10～2026/5/6 \n京都の老舗の茶園で丹精込めて作られたお茶のPOPUPです。\nちょっとしたご挨拶やメッセージカード代わりにお渡しいただける「ごあいさつ茶」シリーズ、お茶が添えられたお便りchayori（ちゃより）など、いろんな柄のパッケージをお選びいただけます。\n今の「気持ち」に合う言葉と共に、贈り物に添えてみませんか？ 
URL:https://www.iwasebooks.co.jp/event/30629
LOCATION:〒965-0024 福島県会津若松市白虎町225
CATEGORIES:会津若松駅前店
ATTACH;FMTTYPE=image/png:https://www.iwasebooks.co.jp/wp-content/uploads/2026/03/b87a40ee9874427caa3060add47731a1.png
END:VEVENT
END:VCALENDAR