BEGIN:VCALENDAR
VERSION:2.0
PRODID:-//岩瀬書店 - ECPv4.6.20.1//NONSGML v1.0//EN
CALSCALE:GREGORIAN
METHOD:PUBLISH
X-WR-CALNAME:岩瀬書店
X-ORIGINAL-URL:https://www.iwasebooks.co.jp
X-WR-CALDESC:Events for 岩瀬書店
BEGIN:VEVENT
DTSTART;VALUE=DATE:20260310
DTEND;VALUE=DATE:20260507
DTSTAMP:20260425T135952
CREATED:20260311T073448Z
LAST-MODIFIED:20260312T053939Z
UID:30626-1773100800-1778111999@www.iwasebooks.co.jp
SUMMARY:OCEAN-TEABAG POPUP開催！
DESCRIPTION:【期間】　2026/3/10～2026/5/6 \nサメ・シャチなどのかっこいいティーバッグから、ねこ・うさぎなどのかわいいティーバッグまで色んな生き物の形のお茶・コーヒーがございます。\n見た目もユニークでおもしろい商品です。\n贈り物にもぴったりの商品ですので、ぜひお手に取ってご覧くださいませ！ 
URL:https://www.iwasebooks.co.jp/event/30626
LOCATION:〒965-0024 福島県会津若松市白虎町225
CATEGORIES:会津若松駅前店
ATTACH;FMTTYPE=image/png:https://www.iwasebooks.co.jp/wp-content/uploads/2026/03/77067e3da397df4c92edd5694cfddc4f.png
END:VEVENT
END:VCALENDAR