BEGIN:VCALENDAR
VERSION:2.0
PRODID:-//岩瀬書店 - ECPv4.6.20.1//NONSGML v1.0//EN
CALSCALE:GREGORIAN
METHOD:PUBLISH
X-WR-CALNAME:岩瀬書店
X-ORIGINAL-URL:https://www.iwasebooks.co.jp
X-WR-CALDESC:Events for 岩瀬書店
BEGIN:VEVENT
DTSTART;TZID=Asia/Tokyo:20260517T110000
DTEND;TZID=Asia/Tokyo:20260517T160000
DTSTAMP:20260423T152803
CREATED:20251208T010434Z
LAST-MODIFIED:20251215T050619Z
UID:29756-1779015600-1779033600@www.iwasebooks.co.jp
SUMMARY:ZINE・ハンドメイドマルシェ 『創作の灯り』
DESCRIPTION:
URL:https://www.iwasebooks.co.jp/event/29756
LOCATION:福島県福島市八木田字並柳163-1
CATEGORIES:八木田店プラスゲオ
ATTACH;FMTTYPE=image/png:https://www.iwasebooks.co.jp/wp-content/uploads/2025/12/56839e6d5b685d2425b2938fc242beed.png
END:VEVENT
END:VCALENDAR