BEGIN:VCALENDAR
VERSION:2.0
PRODID:-//岩瀬書店 - ECPv4.6.20.1//NONSGML v1.0//EN
CALSCALE:GREGORIAN
METHOD:PUBLISH
X-WR-CALNAME:岩瀬書店
X-ORIGINAL-URL:https://www.iwasebooks.co.jp
X-WR-CALDESC:Events for 岩瀬書店
BEGIN:VEVENT
DTSTART;VALUE=DATE:20251206
DTEND;VALUE=DATE:20251208
DTSTAMP:20260420T044718
CREATED:20251111T072757Z
LAST-MODIFIED:20251111T090124Z
UID:29563-1764979200-1765151999@www.iwasebooks.co.jp
SUMMARY:クリスマスイベント　LaQ無料体験会
DESCRIPTION:LaQ無料体験会 \nはじめてでもカンタン! \nLaQで作品をつくっていよう! \n完成した作品はそのままプレゼント! \n当日限定購入特典も‼ \n13:00〜17:00 
URL:https://www.iwasebooks.co.jp/event/29563
LOCATION:福島県郡山市富久山町八山田字大森新田36-1
CATEGORIES:富久山店プラスゲオ
ATTACH;FMTTYPE=image/png:https://www.iwasebooks.co.jp/wp-content/uploads/2025/11/pixta_119751542_2.png
END:VEVENT
END:VCALENDAR