BEGIN:VCALENDAR
VERSION:2.0
PRODID:-//岩瀬書店 - ECPv4.6.20.1//NONSGML v1.0//EN
CALSCALE:GREGORIAN
METHOD:PUBLISH
X-WR-CALNAME:岩瀬書店
X-ORIGINAL-URL:https://www.iwasebooks.co.jp
X-WR-CALDESC:Events for 岩瀬書店
BEGIN:VEVENT
DTSTART;TZID=Asia/Tokyo:20201011T100000
DTEND;TZID=Asia/Tokyo:20201011T160000
DTSTAMP:20260422T100542
CREATED:20200925T012346Z
LAST-MODIFIED:20200925T012452Z
UID:12090-1602410400-1602432000@www.iwasebooks.co.jp
SUMMARY:ノンタンをさがせ
DESCRIPTION:おみせの中にかくれている \nノンタンをさがしてみよう！ 
URL:https://www.iwasebooks.co.jp/event/12090
LOCATION:〒965-0024 福島県会津若松市白虎町225
CATEGORIES:会津若松駅前店
ATTACH;FMTTYPE=image/jpeg:https://www.iwasebooks.co.jp/wp-content/uploads/2017/09/nontan.jpg
END:VEVENT
END:VCALENDAR