BEGIN:VCALENDAR
VERSION:2.0
PRODID:-//岩瀬書店 - ECPv4.6.20.1//NONSGML v1.0//EN
CALSCALE:GREGORIAN
METHOD:PUBLISH
X-WR-CALNAME:岩瀬書店
X-ORIGINAL-URL:https://www.iwasebooks.co.jp
X-WR-CALDESC:Events for 岩瀬書店
BEGIN:VEVENT
DTSTART;TZID=Asia/Tokyo:20200927T100000
DTEND;TZID=Asia/Tokyo:20200927T160000
DTSTAMP:20260425T001803
CREATED:20200817T093142Z
LAST-MODIFIED:20200828T075301Z
UID:11627-1601200800-1601222400@www.iwasebooks.co.jp
SUMMARY:ウォーリーをさがせ
DESCRIPTION:ウォーリーとなかまたちをさがしてみよう！ \nみつけられるかな？ 
URL:https://www.iwasebooks.co.jp/event/11627
LOCATION:〒965-0024 福島県会津若松市白虎町225
CATEGORIES:会津若松駅前店
ATTACH;FMTTYPE=image/jpeg:https://www.iwasebooks.co.jp/wp-content/uploads/2020/08/ev_img01.jpg
END:VEVENT
END:VCALENDAR